BEGIN:VCALENDAR
VERSION:2.0
PRODID:-//Thornton Creek Alliance - ECPv6.15.20//NONSGML v1.0//EN
CALSCALE:GREGORIAN
METHOD:PUBLISH
X-ORIGINAL-URL:https://thorntoncreekalliance.info
X-WR-CALDESC:Events for Thornton Creek Alliance
REFRESH-INTERVAL;VALUE=DURATION:PT1H
X-Robots-Tag:noindex
X-PUBLISHED-TTL:PT1H
BEGIN:VTIMEZONE
TZID:America/Los_Angeles
BEGIN:DAYLIGHT
TZOFFSETFROM:-0800
TZOFFSETTO:-0700
TZNAME:PDT
DTSTART:20210314T100000
END:DAYLIGHT
BEGIN:STANDARD
TZOFFSETFROM:-0700
TZOFFSETTO:-0800
TZNAME:PST
DTSTART:20211107T090000
END:STANDARD
BEGIN:DAYLIGHT
TZOFFSETFROM:-0800
TZOFFSETTO:-0700
TZNAME:PDT
DTSTART:20220313T100000
END:DAYLIGHT
BEGIN:STANDARD
TZOFFSETFROM:-0700
TZOFFSETTO:-0800
TZNAME:PST
DTSTART:20221106T090000
END:STANDARD
BEGIN:DAYLIGHT
TZOFFSETFROM:-0800
TZOFFSETTO:-0700
TZNAME:PDT
DTSTART:20230312T100000
END:DAYLIGHT
BEGIN:STANDARD
TZOFFSETFROM:-0700
TZOFFSETTO:-0800
TZNAME:PST
DTSTART:20231105T090000
END:STANDARD
END:VTIMEZONE
BEGIN:VEVENT
DTSTART;TZID=America/Los_Angeles:20220814T090000
DTEND;TZID=America/Los_Angeles:20220814T120000
DTSTAMP:20260425T143222
CREATED:20220506T160005Z
LAST-MODIFIED:20220506T223742Z
UID:10000067-1660467600-1660478400@thorntoncreekalliance.info
SUMMARY:Twin Ponds Park--Weekly Sunday Work Party!
DESCRIPTION:Join Jim\, Gary and Yoshiko on Sunday mornings at Twin Ponds Park! We see different wildlife with the changing seasons and that inspires us to nurture the natural areas of Twin Ponds Park. We pull out invasive species\, love OM\, and dream about the next big planting of native plants for the birds and beasts to enjoy. Must be 18 or older. Please do not bring children/youth. Click link to learn more and sign up. \nhttps://shoreline.greencitypartnerships.org/event/273/
URL:https://thorntoncreekalliance.info/event/twin-ponds-park-weekly-sunday-work-party-4/2022-08-14/
LOCATION:Twin Ponds Park\, 16501 N 155th St\, Shoreline\, 98155
CATEGORIES:Work Party
END:VEVENT
BEGIN:VEVENT
DTSTART;TZID=America/Los_Angeles:20220807T090000
DTEND;TZID=America/Los_Angeles:20220807T120000
DTSTAMP:20260425T143222
CREATED:20220506T160005Z
LAST-MODIFIED:20220506T223742Z
UID:10000066-1659862800-1659873600@thorntoncreekalliance.info
SUMMARY:Twin Ponds Park--Weekly Sunday Work Party!
DESCRIPTION:Join Jim\, Gary and Yoshiko on Sunday mornings at Twin Ponds Park! We see different wildlife with the changing seasons and that inspires us to nurture the natural areas of Twin Ponds Park. We pull out invasive species\, love OM\, and dream about the next big planting of native plants for the birds and beasts to enjoy. Must be 18 or older. Please do not bring children/youth. Click link to learn more and sign up. \nhttps://shoreline.greencitypartnerships.org/event/273/
URL:https://thorntoncreekalliance.info/event/twin-ponds-park-weekly-sunday-work-party-4/2022-08-07/
LOCATION:Twin Ponds Park\, 16501 N 155th St\, Shoreline\, 98155
CATEGORIES:Work Party
END:VEVENT
BEGIN:VEVENT
DTSTART;TZID=America/Los_Angeles:20220731T090000
DTEND;TZID=America/Los_Angeles:20220731T120000
DTSTAMP:20260425T143222
CREATED:20220506T160005Z
LAST-MODIFIED:20220506T223742Z
UID:10000065-1659258000-1659268800@thorntoncreekalliance.info
SUMMARY:Twin Ponds Park--Weekly Sunday Work Party!
DESCRIPTION:Join Jim\, Gary and Yoshiko on Sunday mornings at Twin Ponds Park! We see different wildlife with the changing seasons and that inspires us to nurture the natural areas of Twin Ponds Park. We pull out invasive species\, love OM\, and dream about the next big planting of native plants for the birds and beasts to enjoy. Must be 18 or older. Please do not bring children/youth. Click link to learn more and sign up. \nhttps://shoreline.greencitypartnerships.org/event/273/
URL:https://thorntoncreekalliance.info/event/twin-ponds-park-weekly-sunday-work-party-4/2022-07-31/
LOCATION:Twin Ponds Park\, 16501 N 155th St\, Shoreline\, 98155
CATEGORIES:Work Party
END:VEVENT
BEGIN:VEVENT
DTSTART;TZID=America/Los_Angeles:20220724T090000
DTEND;TZID=America/Los_Angeles:20220724T120000
DTSTAMP:20260425T143222
CREATED:20220506T160005Z
LAST-MODIFIED:20220506T223742Z
UID:10000064-1658653200-1658664000@thorntoncreekalliance.info
SUMMARY:Twin Ponds Park--Weekly Sunday Work Party!
DESCRIPTION:Join Jim\, Gary and Yoshiko on Sunday mornings at Twin Ponds Park! We see different wildlife with the changing seasons and that inspires us to nurture the natural areas of Twin Ponds Park. We pull out invasive species\, love OM\, and dream about the next big planting of native plants for the birds and beasts to enjoy. Must be 18 or older. Please do not bring children/youth. Click link to learn more and sign up. \nhttps://shoreline.greencitypartnerships.org/event/273/
URL:https://thorntoncreekalliance.info/event/twin-ponds-park-weekly-sunday-work-party-4/2022-07-24/
LOCATION:Twin Ponds Park\, 16501 N 155th St\, Shoreline\, 98155
CATEGORIES:Work Party
END:VEVENT
BEGIN:VEVENT
DTSTART;TZID=America/Los_Angeles:20220717T090000
DTEND;TZID=America/Los_Angeles:20220717T120000
DTSTAMP:20260425T143222
CREATED:20220506T160005Z
LAST-MODIFIED:20220506T223742Z
UID:10000063-1658048400-1658059200@thorntoncreekalliance.info
SUMMARY:Twin Ponds Park--Weekly Sunday Work Party!
DESCRIPTION:Join Jim\, Gary and Yoshiko on Sunday mornings at Twin Ponds Park! We see different wildlife with the changing seasons and that inspires us to nurture the natural areas of Twin Ponds Park. We pull out invasive species\, love OM\, and dream about the next big planting of native plants for the birds and beasts to enjoy. Must be 18 or older. Please do not bring children/youth. Click link to learn more and sign up. \nhttps://shoreline.greencitypartnerships.org/event/273/
URL:https://thorntoncreekalliance.info/event/twin-ponds-park-weekly-sunday-work-party-4/2022-07-17/
LOCATION:Twin Ponds Park\, 16501 N 155th St\, Shoreline\, 98155
CATEGORIES:Work Party
END:VEVENT
BEGIN:VEVENT
DTSTART;TZID=America/Los_Angeles:20220710T090000
DTEND;TZID=America/Los_Angeles:20220710T120000
DTSTAMP:20260425T143222
CREATED:20220506T160005Z
LAST-MODIFIED:20220506T223742Z
UID:10000062-1657443600-1657454400@thorntoncreekalliance.info
SUMMARY:Twin Ponds Park--Weekly Sunday Work Party!
DESCRIPTION:Join Jim\, Gary and Yoshiko on Sunday mornings at Twin Ponds Park! We see different wildlife with the changing seasons and that inspires us to nurture the natural areas of Twin Ponds Park. We pull out invasive species\, love OM\, and dream about the next big planting of native plants for the birds and beasts to enjoy. Must be 18 or older. Please do not bring children/youth. Click link to learn more and sign up. \nhttps://shoreline.greencitypartnerships.org/event/273/
URL:https://thorntoncreekalliance.info/event/twin-ponds-park-weekly-sunday-work-party-4/2022-07-10/
LOCATION:Twin Ponds Park\, 16501 N 155th St\, Shoreline\, 98155
CATEGORIES:Work Party
END:VEVENT
BEGIN:VEVENT
DTSTART;TZID=America/Los_Angeles:20220703T090000
DTEND;TZID=America/Los_Angeles:20220703T120000
DTSTAMP:20260425T143222
CREATED:20220506T160005Z
LAST-MODIFIED:20220506T223742Z
UID:10000061-1656838800-1656849600@thorntoncreekalliance.info
SUMMARY:Twin Ponds Park--Weekly Sunday Work Party!
DESCRIPTION:Join Jim\, Gary and Yoshiko on Sunday mornings at Twin Ponds Park! We see different wildlife with the changing seasons and that inspires us to nurture the natural areas of Twin Ponds Park. We pull out invasive species\, love OM\, and dream about the next big planting of native plants for the birds and beasts to enjoy. Must be 18 or older. Please do not bring children/youth. Click link to learn more and sign up. \nhttps://shoreline.greencitypartnerships.org/event/273/
URL:https://thorntoncreekalliance.info/event/twin-ponds-park-weekly-sunday-work-party-4/2022-07-03/
LOCATION:Twin Ponds Park\, 16501 N 155th St\, Shoreline\, 98155
CATEGORIES:Work Party
END:VEVENT
BEGIN:VEVENT
DTSTART;TZID=America/Los_Angeles:20220626T090000
DTEND;TZID=America/Los_Angeles:20220626T120000
DTSTAMP:20260425T143222
CREATED:20220506T160005Z
LAST-MODIFIED:20220506T223742Z
UID:10000060-1656234000-1656244800@thorntoncreekalliance.info
SUMMARY:Twin Ponds Park--Weekly Sunday Work Party!
DESCRIPTION:Join Jim\, Gary and Yoshiko on Sunday mornings at Twin Ponds Park! We see different wildlife with the changing seasons and that inspires us to nurture the natural areas of Twin Ponds Park. We pull out invasive species\, love OM\, and dream about the next big planting of native plants for the birds and beasts to enjoy. Must be 18 or older. Please do not bring children/youth. Click link to learn more and sign up. \nhttps://shoreline.greencitypartnerships.org/event/273/
URL:https://thorntoncreekalliance.info/event/twin-ponds-park-weekly-sunday-work-party-4/2022-06-26/
LOCATION:Twin Ponds Park\, 16501 N 155th St\, Shoreline\, 98155
CATEGORIES:Work Party
END:VEVENT
BEGIN:VEVENT
DTSTART;TZID=America/Los_Angeles:20220619T090000
DTEND;TZID=America/Los_Angeles:20220619T120000
DTSTAMP:20260425T143222
CREATED:20220506T160005Z
LAST-MODIFIED:20220506T223742Z
UID:10000059-1655629200-1655640000@thorntoncreekalliance.info
SUMMARY:Twin Ponds Park--Weekly Sunday Work Party!
DESCRIPTION:Join Jim\, Gary and Yoshiko on Sunday mornings at Twin Ponds Park! We see different wildlife with the changing seasons and that inspires us to nurture the natural areas of Twin Ponds Park. We pull out invasive species\, love OM\, and dream about the next big planting of native plants for the birds and beasts to enjoy. Must be 18 or older. Please do not bring children/youth. Click link to learn more and sign up. \nhttps://shoreline.greencitypartnerships.org/event/273/
URL:https://thorntoncreekalliance.info/event/twin-ponds-park-weekly-sunday-work-party-4/2022-06-19/
LOCATION:Twin Ponds Park\, 16501 N 155th St\, Shoreline\, 98155
CATEGORIES:Work Party
END:VEVENT
BEGIN:VEVENT
DTSTART;TZID=America/Los_Angeles:20220612T090000
DTEND;TZID=America/Los_Angeles:20220612T120000
DTSTAMP:20260425T143222
CREATED:20220506T160005Z
LAST-MODIFIED:20220506T223742Z
UID:10000058-1655024400-1655035200@thorntoncreekalliance.info
SUMMARY:Twin Ponds Park--Weekly Sunday Work Party!
DESCRIPTION:Join Jim\, Gary and Yoshiko on Sunday mornings at Twin Ponds Park! We see different wildlife with the changing seasons and that inspires us to nurture the natural areas of Twin Ponds Park. We pull out invasive species\, love OM\, and dream about the next big planting of native plants for the birds and beasts to enjoy. Must be 18 or older. Please do not bring children/youth. Click link to learn more and sign up. \nhttps://shoreline.greencitypartnerships.org/event/273/
URL:https://thorntoncreekalliance.info/event/twin-ponds-park-weekly-sunday-work-party-4/2022-06-12/
LOCATION:Twin Ponds Park\, 16501 N 155th St\, Shoreline\, 98155
CATEGORIES:Work Party
END:VEVENT
BEGIN:VEVENT
DTSTART;TZID=America/Los_Angeles:20220605T090000
DTEND;TZID=America/Los_Angeles:20220605T120000
DTSTAMP:20260425T143222
CREATED:20220506T160005Z
LAST-MODIFIED:20220506T223742Z
UID:10000057-1654419600-1654430400@thorntoncreekalliance.info
SUMMARY:Twin Ponds Park--Weekly Sunday Work Party!
DESCRIPTION:Join Jim\, Gary and Yoshiko on Sunday mornings at Twin Ponds Park! We see different wildlife with the changing seasons and that inspires us to nurture the natural areas of Twin Ponds Park. We pull out invasive species\, love OM\, and dream about the next big planting of native plants for the birds and beasts to enjoy. Must be 18 or older. Please do not bring children/youth. Click link to learn more and sign up. \nhttps://shoreline.greencitypartnerships.org/event/273/
URL:https://thorntoncreekalliance.info/event/twin-ponds-park-weekly-sunday-work-party-4/2022-06-05/
LOCATION:Twin Ponds Park\, 16501 N 155th St\, Shoreline\, 98155
CATEGORIES:Work Party
END:VEVENT
BEGIN:VEVENT
DTSTART;TZID=America/Los_Angeles:20220529T090000
DTEND;TZID=America/Los_Angeles:20220529T120000
DTSTAMP:20260425T143222
CREATED:20220506T160005Z
LAST-MODIFIED:20220506T223742Z
UID:10000056-1653814800-1653825600@thorntoncreekalliance.info
SUMMARY:Twin Ponds Park--Weekly Sunday Work Party!
DESCRIPTION:Join Jim\, Gary and Yoshiko on Sunday mornings at Twin Ponds Park! We see different wildlife with the changing seasons and that inspires us to nurture the natural areas of Twin Ponds Park. We pull out invasive species\, love OM\, and dream about the next big planting of native plants for the birds and beasts to enjoy. Must be 18 or older. Please do not bring children/youth. Click link to learn more and sign up. \nhttps://shoreline.greencitypartnerships.org/event/273/
URL:https://thorntoncreekalliance.info/event/twin-ponds-park-weekly-sunday-work-party-4/2022-05-29/
LOCATION:Twin Ponds Park\, 16501 N 155th St\, Shoreline\, 98155
CATEGORIES:Work Party
END:VEVENT
BEGIN:VEVENT
DTSTART;TZID=America/Los_Angeles:20220522T090000
DTEND;TZID=America/Los_Angeles:20220522T120000
DTSTAMP:20260425T143222
CREATED:20220506T160005Z
LAST-MODIFIED:20220506T223742Z
UID:10000055-1653210000-1653220800@thorntoncreekalliance.info
SUMMARY:Twin Ponds Park--Weekly Sunday Work Party!
DESCRIPTION:Join Jim\, Gary and Yoshiko on Sunday mornings at Twin Ponds Park! We see different wildlife with the changing seasons and that inspires us to nurture the natural areas of Twin Ponds Park. We pull out invasive species\, love OM\, and dream about the next big planting of native plants for the birds and beasts to enjoy. Must be 18 or older. Please do not bring children/youth. Click link to learn more and sign up. \nhttps://shoreline.greencitypartnerships.org/event/273/
URL:https://thorntoncreekalliance.info/event/twin-ponds-park-weekly-sunday-work-party-4/2022-05-22/
LOCATION:Twin Ponds Park\, 16501 N 155th St\, Shoreline\, 98155
CATEGORIES:Work Party
END:VEVENT
BEGIN:VEVENT
DTSTART;TZID=America/Los_Angeles:20220515T090000
DTEND;TZID=America/Los_Angeles:20220515T120000
DTSTAMP:20260425T143222
CREATED:20220506T160005Z
LAST-MODIFIED:20220506T223742Z
UID:10000054-1652605200-1652616000@thorntoncreekalliance.info
SUMMARY:Twin Ponds Park--Weekly Sunday Work Party!
DESCRIPTION:Join Jim\, Gary and Yoshiko on Sunday mornings at Twin Ponds Park! We see different wildlife with the changing seasons and that inspires us to nurture the natural areas of Twin Ponds Park. We pull out invasive species\, love OM\, and dream about the next big planting of native plants for the birds and beasts to enjoy. Must be 18 or older. Please do not bring children/youth. Click link to learn more and sign up. \nhttps://shoreline.greencitypartnerships.org/event/273/
URL:https://thorntoncreekalliance.info/event/twin-ponds-park-weekly-sunday-work-party-4/2022-05-15/
LOCATION:Twin Ponds Park\, 16501 N 155th St\, Shoreline\, 98155
CATEGORIES:Work Party
END:VEVENT
BEGIN:VEVENT
DTSTART;TZID=America/Los_Angeles:20220508T090000
DTEND;TZID=America/Los_Angeles:20220508T120000
DTSTAMP:20260425T143222
CREATED:20220506T160005Z
LAST-MODIFIED:20220506T223742Z
UID:10000053-1652000400-1652011200@thorntoncreekalliance.info
SUMMARY:Twin Ponds Park--Weekly Sunday Work Party!
DESCRIPTION:Join Jim\, Gary and Yoshiko on Sunday mornings at Twin Ponds Park! We see different wildlife with the changing seasons and that inspires us to nurture the natural areas of Twin Ponds Park. We pull out invasive species\, love OM\, and dream about the next big planting of native plants for the birds and beasts to enjoy. Must be 18 or older. Please do not bring children/youth. Click link to learn more and sign up. \nhttps://shoreline.greencitypartnerships.org/event/273/
URL:https://thorntoncreekalliance.info/event/twin-ponds-park-weekly-sunday-work-party-4/2022-05-08/
LOCATION:Twin Ponds Park\, 16501 N 155th St\, Shoreline\, 98155
CATEGORIES:Work Party
END:VEVENT
END:VCALENDAR