BEGIN:VCALENDAR
VERSION:2.0
PRODID:-//Thornton Creek Alliance - ECPv6.15.20//NONSGML v1.0//EN
CALSCALE:GREGORIAN
METHOD:PUBLISH
X-ORIGINAL-URL:https://thorntoncreekalliance.info
X-WR-CALDESC:Events for Thornton Creek Alliance
REFRESH-INTERVAL;VALUE=DURATION:PT1H
X-Robots-Tag:noindex
X-PUBLISHED-TTL:PT1H
BEGIN:VTIMEZONE
TZID:America/Los_Angeles
BEGIN:DAYLIGHT
TZOFFSETFROM:-0800
TZOFFSETTO:-0700
TZNAME:PDT
DTSTART:20200308T100000
END:DAYLIGHT
BEGIN:STANDARD
TZOFFSETFROM:-0700
TZOFFSETTO:-0800
TZNAME:PST
DTSTART:20201101T090000
END:STANDARD
BEGIN:DAYLIGHT
TZOFFSETFROM:-0800
TZOFFSETTO:-0700
TZNAME:PDT
DTSTART:20210314T100000
END:DAYLIGHT
BEGIN:STANDARD
TZOFFSETFROM:-0700
TZOFFSETTO:-0800
TZNAME:PST
DTSTART:20211107T090000
END:STANDARD
BEGIN:DAYLIGHT
TZOFFSETFROM:-0800
TZOFFSETTO:-0700
TZNAME:PDT
DTSTART:20220313T100000
END:DAYLIGHT
BEGIN:STANDARD
TZOFFSETFROM:-0700
TZOFFSETTO:-0800
TZNAME:PST
DTSTART:20221106T090000
END:STANDARD
END:VTIMEZONE
BEGIN:VEVENT
DTSTART;TZID=America/Los_Angeles:20211120T090000
DTEND;TZID=America/Los_Angeles:20211120T100000
DTSTAMP:20260425T200930
CREATED:20211116T215939Z
LAST-MODIFIED:20211116T215939Z
UID:10000039-1637398800-1637402400@thorntoncreekalliance.info
SUMMARY:TCA Community Science E.coli Sampling
DESCRIPTION:  \n  \nCollect water samples for E. coli analysis from 12 to 13 sites in the Thornton Creek drainage. Every other Saturday morning\, three teams collect water from their respective sampling sites in Thornton Creek and Little Brook Creek. The samples are processed\, incubated and counted by one of the team members. Results are entered on an electronic data sheet\, submitted and finally reported. Results also go to Seattle Public Utilities (SPU). For more info or to join\, contact Gary Olson at: 206-523-4384.
URL:https://thorntoncreekalliance.info/event/tca-community-science-e-coli-sampling-3/
CATEGORIES:Public Event
ATTACH;FMTTYPE=image/png:https://thorntoncreekalliance.info/wp-content/uploads/2019/03/Blog-1024x480.png
END:VEVENT
BEGIN:VEVENT
DTSTART;TZID=America/Los_Angeles:20211118T100000
DTEND;TZID=America/Los_Angeles:20211118T140000
DTSTAMP:20260425T200930
CREATED:20211116T215018Z
LAST-MODIFIED:20211116T215018Z
UID:10000038-1637229600-1637244000@thorntoncreekalliance.info
SUMMARY:Kingfisher Natural Area Work Party
DESCRIPTION:  \n  \nMeet Forest Steward Rick at the park’s NE access road at NE 104th St and 17th Ave NE in Victory Heights. Hiking boots\, rain gear\, gardening gloves\, protective eye gear – bring it all! Come ready for fall planting. For more details and to register:\nhttps://seattle.greencitypartnerships.org/event/20150/
URL:https://thorntoncreekalliance.info/event/kingfisher-natural-area-work-party/
CATEGORIES:Public Event
ATTACH;FMTTYPE=image/jpeg:https://thorntoncreekalliance.info/wp-content/uploads/2021/10/Generic_Calendar_Image_16-9.jpg
END:VEVENT
BEGIN:VEVENT
DTSTART;TZID=America/Los_Angeles:20211118T090000
DTEND;TZID=America/Los_Angeles:20211118T120000
DTSTAMP:20260425T200930
CREATED:20211116T184239Z
LAST-MODIFIED:20211116T184352Z
UID:10000037-1637226000-1637236800@thorntoncreekalliance.info
SUMMARY:Meadowbrook Pond Fall Planting
DESCRIPTION:  \n  \nIt’s time to plant native trees and shrubs! Join Earth Corps at Meadowbrook Pond for a fun morning fall planting. For more details and to register: https://www.earthcorps.org/volunteer/event/a0E1E000005xEWjUAM/
URL:https://thorntoncreekalliance.info/event/meadowbrook-fall-planting/
CATEGORIES:Public Event
ATTACH;FMTTYPE=image/jpeg:https://thorntoncreekalliance.info/wp-content/uploads/2021/10/Generic_Calendar_Image_16-9.jpg
END:VEVENT
BEGIN:VEVENT
DTSTART;VALUE=DATE:20211117
DTEND;VALUE=DATE:20211118
DTSTAMP:20260425T200930
CREATED:20211116T183454Z
LAST-MODIFIED:20211116T183607Z
UID:10000036-1637107200-1637193599@thorntoncreekalliance.info
SUMMARY:National Hiking Day
DESCRIPTION:  \n  \nGo take a hike! Share your experiences with those who will listen.  There is over 60\,000 miles of hiking trails in the United States\, and plenty of those are in the Seattle area.
URL:https://thorntoncreekalliance.info/event/national-hiking-day/
CATEGORIES:Public Event
ATTACH;FMTTYPE=image/jpeg:https://thorntoncreekalliance.info/wp-content/uploads/2021/10/Jackson-Park-Work-Party-16_9.jpg
END:VEVENT
BEGIN:VEVENT
DTSTART;VALUE=DATE:20211115
DTEND;VALUE=DATE:20211116
DTSTAMP:20260425T200930
CREATED:20211116T182100Z
LAST-MODIFIED:20211116T183644Z
UID:10000035-1636934400-1637020799@thorntoncreekalliance.info
SUMMARY:KCD Native Plant Online Store (Opening Day)
DESCRIPTION:  \n  \nThe 2022 KCD Native Plant Sale online store opens for preorders November 15! Plant pickups will be in March at Tukwila Community Center. Learn more at: https://kingcd.org/programs/better-backyards/native-bareroot-plant-sale/
URL:https://thorntoncreekalliance.info/event/kcd-native-plant-online-store-opening-day/
CATEGORIES:Public Event
ATTACH;FMTTYPE=image/jpeg:https://thorntoncreekalliance.info/wp-content/uploads/2021/10/Generic_Calendar_Image_16-9.jpg
END:VEVENT
BEGIN:VEVENT
DTSTART;TZID=America/Los_Angeles:20211030T100000
DTEND;TZID=America/Los_Angeles:20211030T130000
DTSTAMP:20260425T200930
CREATED:20211008T034547Z
LAST-MODIFIED:20211008T034547Z
UID:10000033-1635588000-1635598800@thorntoncreekalliance.info
SUMMARY:Twin Ponds Park Work Party
DESCRIPTION:  \n  \nMeet Forest Steward Sarah in the community garden parking lot on 1st Ave near 149th St\, not the main parking lot at 155th St. \nFor more information and to register\, visit: https://shoreline.greencitypartnerships.org/event/177/ \n  \n 
URL:https://thorntoncreekalliance.info/event/twin-ponds-park-work-party-2/
CATEGORIES:Public Meeting
ATTACH;FMTTYPE=image/jpeg:https://thorntoncreekalliance.info/wp-content/uploads/2021/10/Generic_Calendar_Image_16-9.jpg
END:VEVENT
BEGIN:VEVENT
DTSTART;TZID=America/Los_Angeles:20211025T103000
DTEND;TZID=America/Los_Angeles:20211025T123000
DTSTAMP:20260425T200930
CREATED:20211008T033734Z
LAST-MODIFIED:20211008T033734Z
UID:10000032-1635157800-1635165000@thorntoncreekalliance.info
SUMMARY:Kramer Creek Work Party
DESCRIPTION:  \n  \nMeet Forest Steward Nicole at the SW corner of 28th Avenue NE and NE 113th St. \n  \n 
URL:https://thorntoncreekalliance.info/event/kramer-creek-work-party-3/2021-10-25/
CATEGORIES:Public Meeting
ATTACH;FMTTYPE=image/jpeg:https://thorntoncreekalliance.info/wp-content/uploads/2021/10/Kramer-Creek-Work-Party-16-9.jpg
END:VEVENT
BEGIN:VEVENT
DTSTART;TZID=America/Los_Angeles:20211024T000000
DTEND;TZID=America/Los_Angeles:20211031T000000
DTSTAMP:20260425T200930
CREATED:20211008T033604Z
LAST-MODIFIED:20211008T033604Z
UID:10000031-1635033600-1635638400@thorntoncreekalliance.info
SUMMARY:BatWeek
DESCRIPTION:  \n  \nBat Week is an annual\, international celebration of the role of bats in nature. Share your love of bats with friends and family through social media using the hashtags #BatWeek and #BatHero. Find fun-for-all-ages bat activities\, informative handouts and presentations\, and ideas for youth and student actions at batweek.org.
URL:https://thorntoncreekalliance.info/event/batweek/
CATEGORIES:Public Meeting
ATTACH;FMTTYPE=image/jpeg:https://thorntoncreekalliance.info/wp-content/uploads/2021/10/Generic_Calendar_Image_16-9.jpg
END:VEVENT
BEGIN:VEVENT
DTSTART;TZID=America/Los_Angeles:20211023T100000
DTEND;TZID=America/Los_Angeles:20211023T130000
DTSTAMP:20260425T200930
CREATED:20211008T033217Z
LAST-MODIFIED:20211008T033217Z
UID:10000028-1634983200-1634994000@thorntoncreekalliance.info
SUMMARY:Twin Ponds Park Work Party
DESCRIPTION:  \n  \nMeet Forest Steward Sarah in the community garden parking lot on 1st Ave near 149th St\, not the main parking lot at 155th St. \nFor more information and to register\, visit: https://shoreline.greencitypartnerships.org/event/177/ \n  \n 
URL:https://thorntoncreekalliance.info/event/twin-ponds-park-work-party/
CATEGORIES:Public Meeting
ATTACH;FMTTYPE=image/jpeg:https://thorntoncreekalliance.info/wp-content/uploads/2021/10/Generic_Calendar_Image_16-9.jpg
END:VEVENT
BEGIN:VEVENT
DTSTART;TZID=America/Los_Angeles:20211023T100000
DTEND;TZID=America/Los_Angeles:20211023T120000
DTSTAMP:20260425T200930
CREATED:20211008T032722Z
LAST-MODIFIED:20211008T032722Z
UID:10000026-1634983200-1634990400@thorntoncreekalliance.info
SUMMARY:Beaver Pond Natural Area Work Party
DESCRIPTION:  \n  \nMeet Forest Steward Cheryl on the west side of 8th Ave NE at the entry trail south of NE 105th Street. Look for sign-in box\, large mulch pile\, and the large redwood tree. \nFor more information and to register\, visit: https://seattle.greencitypartnerships.org/event/20140/
URL:https://thorntoncreekalliance.info/event/beaver-pond-natural-area-work-party/
CATEGORIES:Public Meeting
ATTACH;FMTTYPE=image/jpeg:https://thorntoncreekalliance.info/wp-content/uploads/2021/10/Generic_Calendar_Image_16-9.jpg
END:VEVENT
BEGIN:VEVENT
DTSTART;TZID=America/Los_Angeles:20211023T090000
DTEND;TZID=America/Los_Angeles:20211023T100000
DTSTAMP:20260425T200930
CREATED:20211008T032231Z
LAST-MODIFIED:20211008T032231Z
UID:10000024-1634979600-1634983200@thorntoncreekalliance.info
SUMMARY:TCA Community Science E.coli Sampling
DESCRIPTION:  \n  \nCollect water samples for E. coli analysis from 12 to 13 sites in the Thornton Creek drainage. Every other Saturday morning\, three teams collect water from their respective sampling sites in Thornton Creek and Little Brook Creek. The samples are processed\, incubated and counted by one of the team members. Results are entered on an electronic data sheet\, submitted and finally reported. Results also go to Seattle Public Utilities (SPU). For more info or to join\, contact Gary Olson at: 206-523-4384.
URL:https://thorntoncreekalliance.info/event/tca-community-science-e-coli-sampling-2/
CATEGORIES:Public Meeting
ATTACH;FMTTYPE=image/jpeg:https://thorntoncreekalliance.info/wp-content/uploads/2021/10/Generic_Calendar_Image_16-9.jpg
END:VEVENT
BEGIN:VEVENT
DTSTART;TZID=America/Los_Angeles:20211018T173000
DTEND;TZID=America/Los_Angeles:20211018T193000
DTSTAMP:20260425T200930
CREATED:20211008T031952Z
LAST-MODIFIED:20211008T031952Z
UID:10000022-1634578200-1634585400@thorntoncreekalliance.info
SUMMARY:Seattle Park District Public Hearing Remote Meeting
DESCRIPTION:  \n  \nJoin councilmembers Lorena González\, Lisa Herbold\, Debora Juarez and others for the Seattle Park District Board Public Hearing. \nFor more information: https://www.seattle.gov/council/calendar?trumbaEmbed=view%3Devent%26eventid%3D150275245
URL:https://thorntoncreekalliance.info/event/seattle-park-district-public-hearing-remote-meeting/
CATEGORIES:Online Symposium
ATTACH;FMTTYPE=image/jpeg:https://thorntoncreekalliance.info/wp-content/uploads/2021/10/Generic_Calendar_Image_16-9.jpg
END:VEVENT
BEGIN:VEVENT
DTSTART;TZID=America/Los_Angeles:20211018T103000
DTEND;TZID=America/Los_Angeles:20211018T123000
DTSTAMP:20260425T200930
CREATED:20211008T030226Z
LAST-MODIFIED:20211008T030226Z
UID:10000018-1634553000-1634560200@thorntoncreekalliance.info
SUMMARY:Kramer Creek Work Party
DESCRIPTION:  \n  \nMeet Forest Steward Nicole at the SW corner of 28th Avenue NE and NE 113th St. \n  \n 
URL:https://thorntoncreekalliance.info/event/kramer-creek-work-party-2/2021-10-18/
CATEGORIES:Public Meeting
ATTACH;FMTTYPE=image/jpeg:https://thorntoncreekalliance.info/wp-content/uploads/2021/10/Kramer-Creek-Work-Party-16-9.jpg
END:VEVENT
BEGIN:VEVENT
DTSTART;TZID=America/Los_Angeles:20211016T100000
DTEND;TZID=America/Los_Angeles:20211016T120000
DTSTAMP:20260425T200930
CREATED:20211008T025316Z
LAST-MODIFIED:20211008T025316Z
UID:10000016-1634378400-1634385600@thorntoncreekalliance.info
SUMMARY:Jackson Park Work Party
DESCRIPTION:  \n  \nMeet Forest Steward Elly in the overflow parking lot outside of the Jackson Park main lot. \nFor more details and to register\, visit: https://seattle.greencitypartnerships.org/event/18847/
URL:https://thorntoncreekalliance.info/event/jackson-park-work-party/
CATEGORIES:Public Meeting
ATTACH;FMTTYPE=image/jpeg:https://thorntoncreekalliance.info/wp-content/uploads/2021/10/Jackson-Park-Work-Party-16_9.jpg
END:VEVENT
BEGIN:VEVENT
DTSTART;TZID=America/Los_Angeles:20211013T150000
DTEND;TZID=America/Los_Angeles:20211013T170000
DTSTAMP:20260425T200930
CREATED:20211008T024647Z
LAST-MODIFIED:20211008T024816Z
UID:10000014-1634137200-1634144400@thorntoncreekalliance.info
SUMMARY:Seattle Urban Forestry Commission\, via webex
DESCRIPTION:  \n  \nThe Urban Forestry Commission advises Seattle’s Mayor and City Council concerning the establishment of policy and regulations governing the protection\, management\, and conservation of trees and vegetation in the City of Seattle. \nSign up at: https://www.seattle.gov/urbanforestrycommission/meetingschedule \nRegular UFC meetings are held on the first and second Wednesday of the month\, from 3 PM to 5 PM.
URL:https://thorntoncreekalliance.info/event/seattle-urban-forestry-commission-via-webex/
CATEGORIES:Online Symposium
ATTACH;FMTTYPE=image/jpeg:https://thorntoncreekalliance.info/wp-content/uploads/2021/10/Generic_Calendar_Image_16-9.jpg
END:VEVENT
BEGIN:VEVENT
DTSTART;TZID=America/Los_Angeles:20211011T103000
DTEND;TZID=America/Los_Angeles:20211011T123000
DTSTAMP:20260425T200930
CREATED:20211008T023436Z
LAST-MODIFIED:20211008T030057Z
UID:10000013-1633948200-1633955400@thorntoncreekalliance.info
SUMMARY:Kramer Creek Work Party
DESCRIPTION:  \n  \nMeet Forest Steward Nicole at the SW corner of 28th Avenue NE and NE 113th St. \n  \n 
URL:https://thorntoncreekalliance.info/event/kramer-creek-work-party/2021-10-11/
CATEGORIES:Public Meeting
ATTACH;FMTTYPE=image/jpeg:https://thorntoncreekalliance.info/wp-content/uploads/2021/10/Kramer-Creek-Work-Party-16-9.jpg
END:VEVENT
BEGIN:VEVENT
DTSTART;VALUE=DATE:20211011
DTEND;VALUE=DATE:20211012
DTSTAMP:20260425T200930
CREATED:20211008T022150Z
LAST-MODIFIED:20211008T023614Z
UID:10000012-1633910400-1633996799@thorntoncreekalliance.info
SUMMARY:Indigenous Peoples Day
DESCRIPTION:  \n  \nWashington State Legislature has declared the second Monday of October as Indigenous Peoples Day in the State of Washington; encouraging everyone to recognize the day; and reaffirming the State’s commitment to promote the well-being of Indigenous communities. We acknowledge the land upon which we live\, work\, and learn as the traditional home of the Coast Salish peoples\, the land which touches the shared waters of all tribes and bands within the Duwamish\, Suquamish\, Tulalip and Muckleshoot tribal nations. We take the opportunity to thank the original caretakers of this land who are still here.
URL:https://thorntoncreekalliance.info/event/indigenous-peoples-day/
ATTACH;FMTTYPE=image/jpeg:https://thorntoncreekalliance.info/wp-content/uploads/2021/10/Indigenous-Peoples-Day-16_9.jpg
END:VEVENT
BEGIN:VEVENT
DTSTART;TZID=America/Los_Angeles:20211009T100000
DTEND;TZID=America/Los_Angeles:20211009T120000
DTSTAMP:20260425T200930
CREATED:20211008T021636Z
LAST-MODIFIED:20211008T021636Z
UID:10000011-1633773600-1633780800@thorntoncreekalliance.info
SUMMARY:Little Brook Natural Area Work Party
DESCRIPTION:  \n  \nMeet Forest Steward Cheryl at the south trail head. \nPark on residential streets in the neighborhood on 36th Ave NE\, and NE 120th. NE. If you are coming from 35th Ave NE\, turn on to NE 120th Street and head east to 36th Ave NE. Then turn right on to 36th Ave NE and head south\, past north entry at mulch pile\, and all the way to south trail head. \nFor more information and to register\, visit: https://seattle.greencitypartnerships.org/event/20045/
URL:https://thorntoncreekalliance.info/event/little-brook-natural-area-work-party/
CATEGORIES:Public Meeting
ATTACH;FMTTYPE=image/jpeg:https://thorntoncreekalliance.info/wp-content/uploads/2021/10/Generic_Calendar_Image_16-9.jpg
END:VEVENT
BEGIN:VEVENT
DTSTART;TZID=America/Los_Angeles:20211009T090000
DTEND;TZID=America/Los_Angeles:20211009T120000
DTSTAMP:20260425T200930
CREATED:20211008T020959Z
LAST-MODIFIED:20211008T021125Z
UID:10000010-1633770000-1633780800@thorntoncreekalliance.info
SUMMARY:TCA Natural Area Committee Walk: Cromwell Park & Ronald Bog
DESCRIPTION:  \n  \nMeet NA Committee Chair Dass Adams in Cromwell Park parking lot. Enter off Meridian Avenue N between between NE 180th and NE 183rd in Shoreline. \nSuggested Gear: No hazards for this route\, normal clothes OK. All trails or sidewalks. \nRoute: We will explore the planted areas of the parks\, the past restoration efforts\, possible noxious weeds\, and observe the outflow of these parks continuing to form the North Fork of Thornton Creek.
URL:https://thorntoncreekalliance.info/event/tca-natural-area-committee-walk-cromwell-park-ronald-bog/
CATEGORIES:Public Meeting
ATTACH;FMTTYPE=image/jpeg:https://thorntoncreekalliance.info/wp-content/uploads/2021/10/Natural-Areas-Committee-Event-16-9.jpg
END:VEVENT
BEGIN:VEVENT
DTSTART;TZID=America/Los_Angeles:20211009T090000
DTEND;TZID=America/Los_Angeles:20211009T100000
DTSTAMP:20260425T200930
CREATED:20211008T011113Z
LAST-MODIFIED:20211008T014249Z
UID:10000009-1633770000-1633773600@thorntoncreekalliance.info
SUMMARY:TCA Community Science E.coli Sampling
DESCRIPTION:  \n  \nCollect water samples for E. coli analysis from 12 to 13 sites in the Thornton Creek drainage. Every other Saturday morning\, three teams collect water from their respective sampling sites in Thornton Creek and Little Brook Creek. The samples are processed\, incubated and counted by one of the team members. Results are entered on an electronic data sheet\, submitted and finally reported. Results also go to Seattle Public Utilities (SPU). For more info or to join\, contact Gary Olson at: 206-523-4384.
URL:https://thorntoncreekalliance.info/event/tca-community-science-e-coli-sampling/
CATEGORIES:Public Meeting
ATTACH;FMTTYPE=image/jpeg:https://thorntoncreekalliance.info/wp-content/uploads/2021/10/Generic_Calendar_Image_16-9.jpg
END:VEVENT
BEGIN:VEVENT
DTSTART;TZID=America/Los_Angeles:20210729T190000
DTEND;TZID=America/Los_Angeles:20210729T210000
DTSTAMP:20260425T200930
CREATED:20210719T214154Z
LAST-MODIFIED:20210719T214548Z
UID:10000008-1627585200-1627592400@thorntoncreekalliance.info
SUMMARY:Thornton Creek Alliance General Meeting: July 29th\, 2021
DESCRIPTION:
URL:https://thorntoncreekalliance.info/event/thornton-creek-alliance-general-meeting-july-29th-2021/
LOCATION:Zoom
CATEGORIES:Public Meeting
ATTACH;FMTTYPE=image/jpeg:https://thorntoncreekalliance.info/wp-content/uploads/2019/01/img_6576.jpg
END:VEVENT
BEGIN:VEVENT
DTSTART;TZID=America/Los_Angeles:20210519T090000
DTEND;TZID=America/Los_Angeles:20210519T120000
DTSTAMP:20260425T200930
CREATED:20210517T024615Z
LAST-MODIFIED:20210518T024930Z
UID:10000007-1621414800-1621425600@thorntoncreekalliance.info
SUMMARY:2021 Urban Forest Symposium: Day 2
DESCRIPTION:  \nPlantAmnesty and UW Botanic Gardens partner to deliver the Urban Forest Symposium each spring. Each year’s symposium focuses on a timely topic and brings together a diverse audience including arborists\, land managers\, designers\, program managers\, municipal planners\, volunteers\, and advocates.\nWednesday\, May 19\, 2021\nThis day will focus on approaches for broad and inclusive community engagement in urban forestry planning\, priorities and programming. \n \nRecent events have shined a light on the critical need for all people to have equitable access to the benefits that our urban forests provide. This year’s virtual Urban Forest Symposium will ground our conversation in the disproportionate impacts of COVID-19 on frontline communities and explore a new vision for urban forestry and the role it can play in a more just society moving forward. \nSpeakers including Indigenous Tribal people\, youth\, community leaders\, government experts and researchers will share big ideas for recognition\, recovery and reinvestment. Recognizing the many urban nature benefits\, presenters will examine impacts and opportunities\, including workforce and leadership development programs aimed at building pathways for youth to pursue urban forestry careers. This year’s virtual symposium aims to find new directions for culturally appropriate community engagement in urban forestry planning and programming. Join us to listen\, learn\, and discover opportunities to engage with communities and programs for a better future for our urban forest and all those connected to it. \nProfessional credits available for the Tuesday session: APLD (1)\, ISA (1.75)\, CPH (2.5)\, ecoPRO (2.5)\, WALP/NALP (2.5)\nProfessional credits available for the Wednesday session: APLD (2.25)\, ISA (2)\, CPH (2.5)\, ecoPRO (2.5)\, WALP/NALP (2.5)
URL:https://thorntoncreekalliance.info/event/2021-urban-forest-symposium-2021-05-19/
CATEGORIES:Online Symposium
END:VEVENT
BEGIN:VEVENT
DTSTART;TZID=America/Los_Angeles:20210518T090000
DTEND;TZID=America/Los_Angeles:20210518T120000
DTSTAMP:20260425T200930
CREATED:20210517T024615Z
LAST-MODIFIED:20210518T025004Z
UID:10000006-1621328400-1621339200@thorntoncreekalliance.info
SUMMARY:2021 Urban Forest Symposium: Day 1
DESCRIPTION:  \nPlantAmnesty and UW Botanic Gardens partner to deliver the Urban Forest Symposium each spring. Each year’s symposium focuses on a timely topic and brings together a diverse audience including arborists\, land managers\, designers\, program managers\, municipal planners\, volunteers\, and advocates.\nTuesday\, May 18\, 2021\nThis day will focus on building a diverse\, qualified and representative urban forestry workforce. Speakers will highlight national efforts and local programs and perspectives on youth leadership and career development. \n \nRecent events have shined a light on the critical need for all people to have equitable access to the benefits that our urban forests provide. This year’s virtual Urban Forest Symposium will ground our conversation in the disproportionate impacts of COVID-19 on frontline communities and explore a new vision for urban forestry and the role it can play in a more just society moving forward. \nSpeakers including Indigenous Tribal people\, youth\, community leaders\, government experts and researchers will share big ideas for recognition\, recovery and reinvestment. Recognizing the many urban nature benefits\, presenters will examine impacts and opportunities\, including workforce and leadership development programs aimed at building pathways for youth to pursue urban forestry careers. This year’s virtual symposium aims to find new directions for culturally appropriate community engagement in urban forestry planning and programming. Join us to listen\, learn\, and discover opportunities to engage with communities and programs for a better future for our urban forest and all those connected to it. \nProfessional credits available for the Tuesday session: APLD (1)\, ISA (1.75)\, CPH (2.5)\, ecoPRO (2.5)\, WALP/NALP (2.5)\nProfessional credits available for the Wednesday session: APLD (2.25)\, ISA (2)\, CPH (2.5)\, ecoPRO (2.5)\, WALP/NALP (2.5)
URL:https://thorntoncreekalliance.info/event/2021-urban-forest-symposium/
CATEGORIES:Online Symposium
END:VEVENT
BEGIN:VEVENT
DTSTART;TZID=America/Los_Angeles:20210505T190000
DTEND;TZID=America/Los_Angeles:20210505T210000
DTSTAMP:20260425T200930
CREATED:20210427T215016Z
LAST-MODIFIED:20210502T201709Z
UID:10000005-1620241200-1620248400@thorntoncreekalliance.info
SUMMARY:Thornton Creek Alliance General Meeting: May 5th\, 2021
DESCRIPTION:
URL:https://thorntoncreekalliance.info/event/thornton-creek-alliance-general-meeting-may-25th-2021/
LOCATION:Zoom
CATEGORIES:Public Meeting
ATTACH;FMTTYPE=image/jpeg:https://thorntoncreekalliance.info/wp-content/uploads/2019/01/img_6576.jpg
END:VEVENT
BEGIN:VEVENT
DTSTART;TZID=America/Los_Angeles:20210128T190000
DTEND;TZID=America/Los_Angeles:20210128T210000
DTSTAMP:20260425T200930
CREATED:20210120T033819Z
LAST-MODIFIED:20210120T221008Z
UID:10000004-1611860400-1611867600@thorntoncreekalliance.info
SUMMARY:General Meeting
DESCRIPTION:
URL:https://thorntoncreekalliance.info/event/general-meeting/
CATEGORIES:Public Meeting
ATTACH;FMTTYPE=image/jpeg:https://thorntoncreekalliance.info/wp-content/uploads/2019/01/img_6576.jpg
END:VEVENT
END:VCALENDAR