BEGIN:VCALENDAR
VERSION:2.0
PRODID:-//Thornton Creek Alliance - ECPv6.15.20//NONSGML v1.0//EN
CALSCALE:GREGORIAN
METHOD:PUBLISH
X-WR-CALNAME:Thornton Creek Alliance
X-ORIGINAL-URL:https://thorntoncreekalliance.info
X-WR-CALDESC:Events for Thornton Creek Alliance
REFRESH-INTERVAL;VALUE=DURATION:PT1H
X-Robots-Tag:noindex
X-PUBLISHED-TTL:PT1H
BEGIN:VTIMEZONE
TZID:America/Los_Angeles
BEGIN:DAYLIGHT
TZOFFSETFROM:-0800
TZOFFSETTO:-0700
TZNAME:PDT
DTSTART:20210314T100000
END:DAYLIGHT
BEGIN:STANDARD
TZOFFSETFROM:-0700
TZOFFSETTO:-0800
TZNAME:PST
DTSTART:20211107T090000
END:STANDARD
BEGIN:DAYLIGHT
TZOFFSETFROM:-0800
TZOFFSETTO:-0700
TZNAME:PDT
DTSTART:20220313T100000
END:DAYLIGHT
BEGIN:STANDARD
TZOFFSETFROM:-0700
TZOFFSETTO:-0800
TZNAME:PST
DTSTART:20221106T090000
END:STANDARD
BEGIN:DAYLIGHT
TZOFFSETFROM:-0800
TZOFFSETTO:-0700
TZNAME:PDT
DTSTART:20230312T100000
END:DAYLIGHT
BEGIN:STANDARD
TZOFFSETFROM:-0700
TZOFFSETTO:-0800
TZNAME:PST
DTSTART:20231105T090000
END:STANDARD
END:VTIMEZONE
BEGIN:VEVENT
DTSTART;TZID=America/Los_Angeles:20220425T103000
DTEND;TZID=America/Los_Angeles:20220425T123000
DTSTAMP:20260425T161030
CREATED:20220405T191028Z
LAST-MODIFIED:20220405T191028Z
UID:10000152-1650882600-1650889800@thorntoncreekalliance.info
SUMMARY:Kramer Creek Work Party
DESCRIPTION:  \nMeet Forest Steward NIcole at the SW corner of 28th Avenue NE and NE 113th St.
URL:https://thorntoncreekalliance.info/event/kramer-creek-work-party-16/
CATEGORIES:Public Event
ATTACH;FMTTYPE=image/jpeg:https://thorntoncreekalliance.info/wp-content/uploads/2021/10/Generic_Calendar_Image_16-9.jpg
END:VEVENT
BEGIN:VEVENT
DTSTART;TZID=America/Los_Angeles:20220424T100000
DTEND;TZID=America/Los_Angeles:20220424T130000
DTSTAMP:20260425T161030
CREATED:20220405T190528Z
LAST-MODIFIED:20220405T190528Z
UID:10000150-1650794400-1650805200@thorntoncreekalliance.info
SUMMARY:Earth Day Work Party at Brugger’s Bog Park
DESCRIPTION:  \nJoin the Brugger’s Bog Park Native Plant Stewards and Shoreline Green Partnership as we continue to restore this important wetland habitat with native shrubs\, trees and meadow. This City of Shoreline Park is located in the Lyons Creek Watershed which includes creeks that enter Lake Washington then continuing on to Puget Sound. You’ll be helping to improve this shrub and forested area by removing invasive blackberry\, mulching and adding tree guards to new plants added over the winter. Much to be done getting new plants protected from chewing small wildlife including hungry rabbits 😲 and even time to remove those unwanted blackberries that easily over grow limiting space for the native plants! \nFor more information visit: https://shoreline.greencitypartnerships.org/event/258/
URL:https://thorntoncreekalliance.info/event/earth-day-work-party-at-bruggers-bog-park/
CATEGORIES:Public Event
ATTACH;FMTTYPE=image/jpeg:https://thorntoncreekalliance.info/wp-content/uploads/2021/10/Generic_Calendar_Image_16-9.jpg
END:VEVENT
BEGIN:VEVENT
DTSTART;TZID=America/Los_Angeles:20220424T090000
DTEND;TZID=America/Los_Angeles:20220424T120000
DTSTAMP:20260425T161030
CREATED:20220405T190816Z
LAST-MODIFIED:20220405T190816Z
UID:10000151-1650790800-1650801600@thorntoncreekalliance.info
SUMMARY:Twin Ponds Park--Weekly Sunday Work Party!
DESCRIPTION:  \nJoin Jim\, Gary and Yoshiko on Sunday mornings at Twin Ponds Park! We see different wildlife with the changing seasons and that inspires us to nurture the natural areas of Twin Ponds Park. We pull out invasives\, love OM\, and dream about the next big planting of native plants for the birds and beasts to enjoy. \nFor more information visit: https://shoreline.greencitypartnerships.org/event/271/
URL:https://thorntoncreekalliance.info/event/twin-ponds-park-weekly-sunday-work-party-3/
CATEGORIES:Public Event
ATTACH;FMTTYPE=image/jpeg:https://thorntoncreekalliance.info/wp-content/uploads/2021/10/Generic_Calendar_Image_16-9.jpg
END:VEVENT
BEGIN:VEVENT
DTSTART;TZID=America/Los_Angeles:20220423T130000
DTEND;TZID=America/Los_Angeles:20220423T150000
DTSTAMP:20260425T161030
CREATED:20220405T190141Z
LAST-MODIFIED:20220405T190141Z
UID:10000149-1650718800-1650726000@thorntoncreekalliance.info
SUMMARY:Building Lake City Together (BLCT) Spring Clean Event
DESCRIPTION:  \nWe will meet at 12700 Lake City Way NE; we provide all you need to participate. \nfor more information: enjoylakecity.org
URL:https://thorntoncreekalliance.info/event/building-lake-city-together-blct-spring-clean-event/
CATEGORIES:Public Event
ATTACH;FMTTYPE=image/jpeg:https://thorntoncreekalliance.info/wp-content/uploads/2021/10/Generic_Calendar_Image_16-9.jpg
END:VEVENT
BEGIN:VEVENT
DTSTART;TZID=America/Los_Angeles:20220423T090000
DTEND;TZID=America/Los_Angeles:20220423T123000
DTSTAMP:20260425T161030
CREATED:20220405T185914Z
LAST-MODIFIED:20220405T185914Z
UID:10000148-1650704400-1650717000@thorntoncreekalliance.info
SUMMARY:Burke-Gilman Trail - Earth Day Redux
DESCRIPTION:  \nWe’ll be celebrating Earth Day\, the day after\, by removing invasive Ivy and Blackberries. Open to the public. All ages OK. Dress for the weather predicted!\, sturdy shoes or boots. BRING – Gloves\, a snack and drink for our mid-AM Coffee break. We’ll have tools and some gloves if you don’t have any. We’ll meet on the B-G Trail just east of the intersection of Pullman Ave NE and NE 60th St. \nFor more information visit: https://seattle.greencitypartnerships.org/event/21106/
URL:https://thorntoncreekalliance.info/event/burke-gilman-trail-earth-day-redux/
CATEGORIES:Public Event
ATTACH;FMTTYPE=image/jpeg:https://thorntoncreekalliance.info/wp-content/uploads/2021/10/Generic_Calendar_Image_16-9.jpg
END:VEVENT
BEGIN:VEVENT
DTSTART;TZID=America/Los_Angeles:20220423T090000
DTEND;TZID=America/Los_Angeles:20220423T100000
DTSTAMP:20260425T161030
CREATED:20220405T185530Z
LAST-MODIFIED:20220405T185606Z
UID:10000147-1650704400-1650708000@thorntoncreekalliance.info
SUMMARY:TCA Community Science E.coli Sampling
DESCRIPTION:  \nCollect water samples for E. coli analysis from 12 to 13 sites in the Thornton Creek drainage. Every other Saturday morning three teams collect water from their respective sampling sites in Thornton Creek and Little Brook Creek. The samples are processed\, incubated and counted by one of the team members. Results are entered on an electronic data sheet\, submitted and finally reported. Results also go to Seattle Public Utilities (SPU). For more info or to join\, contact Gary Olson at: 206-523-4384.
URL:https://thorntoncreekalliance.info/event/tca-community-science-e-coli-sampling-8/
CATEGORIES:Public Event
ATTACH;FMTTYPE=image/jpeg:https://thorntoncreekalliance.info/wp-content/uploads/2021/10/Generic_Calendar_Image_16-9.jpg
END:VEVENT
BEGIN:VEVENT
DTSTART;TZID=America/Los_Angeles:20220422T090000
DTEND;TZID=America/Los_Angeles:20220422T120000
DTSTAMP:20260425T161030
CREATED:20220405T185246Z
LAST-MODIFIED:20220405T185246Z
UID:10000146-1650618000-1650628800@thorntoncreekalliance.info
SUMMARY:Earth Day at North City Park
DESCRIPTION:Along with a crew of volunteers from PEMCO Insurance we will be celebrating Earth Day by continuing a variety of restoration work at North City Park that was stated just over a year ago. \nOn the 22nd we will be initiating the removal of invasive and non-native plants from the Park’s 4th restoration site. For those who prefer to help with planting\, we have a recently cleared site ready for planting bare root plants. In the upper forest we have some mature trees that are in need ivy removed along with the construction of survival rings. And finally\, we have two sites which require a good mulching to protect new native plants installed last Novembers as we head into our PNW summer. All of this work supports a healthy future forest of North City Park and we look forward to seeing you there! \nFor more information visit: https://shoreline.greencitypartnerships.org/event/294/
URL:https://thorntoncreekalliance.info/event/earth-day-at-north-city-park/
CATEGORIES:Public Event
ATTACH;FMTTYPE=image/jpeg:https://thorntoncreekalliance.info/wp-content/uploads/2021/10/Generic_Calendar_Image_16-9.jpg
END:VEVENT
BEGIN:VEVENT
DTSTART;TZID=America/Los_Angeles:20220420T150000
DTEND;TZID=America/Los_Angeles:20220420T170000
DTSTAMP:20260425T161030
CREATED:20220405T184821Z
LAST-MODIFIED:20220405T184821Z
UID:10000144-1650466800-1650474000@thorntoncreekalliance.info
SUMMARY:Seattle Urban Forestry Commission
DESCRIPTION:The Urban Forestry Commission advises Seattle’s Mayor and City Council concerning the establishment of policy and regulations governing the protection\, management\, and conservation of trees and vegetation in the City of Seattle. Regular UFC meetings are held on the first and second Wednesday of the month\, from 3 PM to 5 PM. \nFor more information visit: https://www.seattle.gov/urbanforestrycommission/meetingschedule
URL:https://thorntoncreekalliance.info/event/seattle-urban-forestry-commission-4/
CATEGORIES:Public Event
ATTACH;FMTTYPE=image/jpeg:https://thorntoncreekalliance.info/wp-content/uploads/2021/10/Generic_Calendar_Image_16-9.jpg
END:VEVENT
BEGIN:VEVENT
DTSTART;TZID=America/Los_Angeles:20220418T103000
DTEND;TZID=America/Los_Angeles:20220418T123000
DTSTAMP:20260425T161030
CREATED:20220405T184619Z
LAST-MODIFIED:20220405T184619Z
UID:10000143-1650277800-1650285000@thorntoncreekalliance.info
SUMMARY:Kramer Creek Work Party
DESCRIPTION:Meet Forest Steward Nicole at the SW corner of 28th Avenue NE and NE 113th St.
URL:https://thorntoncreekalliance.info/event/kramer-creek-work-party-15/
CATEGORIES:Public Event
ATTACH;FMTTYPE=image/jpeg:https://thorntoncreekalliance.info/wp-content/uploads/2021/10/Generic_Calendar_Image_16-9.jpg
END:VEVENT
BEGIN:VEVENT
DTSTART;TZID=America/Los_Angeles:20220417T090000
DTEND;TZID=America/Los_Angeles:20220417T120000
DTSTAMP:20260425T161030
CREATED:20220405T182745Z
LAST-MODIFIED:20220405T182745Z
UID:10000142-1650186000-1650196800@thorntoncreekalliance.info
SUMMARY:Twin Ponds Park--Weekly Sunday Work Party!
DESCRIPTION:Join Jim\, Gary and Yoshiko on Sunday mornings at Twin Ponds Park! We see different wildlife with the changing seasons and that inspires us to nurture the natural areas of Twin Ponds Park. We pull out invasives\, love OM\, and dream about the next big planting of native plants for the birds and beasts to enjoy. \nFor more information visit: https://shoreline.greencitypartnerships.org/event/270/
URL:https://thorntoncreekalliance.info/event/twin-ponds-park-weekly-sunday-work-party-2/
CATEGORIES:Public Event
ATTACH;FMTTYPE=image/jpeg:https://thorntoncreekalliance.info/wp-content/uploads/2021/10/Generic_Calendar_Image_16-9.jpg
END:VEVENT
BEGIN:VEVENT
DTSTART;TZID=America/Los_Angeles:20220416T100000
DTEND;TZID=America/Los_Angeles:20220416T140000
DTSTAMP:20260425T161030
CREATED:20220401T203514Z
LAST-MODIFIED:20220401T203605Z
UID:10000140-1650103200-1650117600@thorntoncreekalliance.info
SUMMARY:Jackson Park Trail Work Party
DESCRIPTION:Join us to restore natural areas along the trail next to Jackson Park Golf Course. You’ll discover sweet patches of forest and hear birdsong while you work! Open to the public. All ages OK. Come masked\, and please remember your gloves\, water\, and snacks/lunch. Dress for the weather and wear long sleeves and pants – those blackberries are vicious! We’ll provide tools and guidance. Meet at the white sculpture near the trail kiosk – (NE 135th and 11th NE) – we’ll load up and go to the work area from there. \nFor more information visit: https://seattle.greencitypartnerships.org/event/20485
URL:https://thorntoncreekalliance.info/event/jackson-park-trail-work-party-4/
CATEGORIES:Public Event
ATTACH;FMTTYPE=image/jpeg:https://thorntoncreekalliance.info/wp-content/uploads/2021/10/Jackson-Park-Work-Party-16_9.jpg
END:VEVENT
BEGIN:VEVENT
DTSTART;TZID=America/Los_Angeles:20220414T183000
DTEND;TZID=America/Los_Angeles:20220414T200000
DTSTAMP:20260425T161030
CREATED:20220401T203026Z
LAST-MODIFIED:20220401T203026Z
UID:10000139-1649961000-1649966400@thorntoncreekalliance.info
SUMMARY:LCNA (Lake City Neighborhood Alliance) Meeting
DESCRIPTION:Hear about neighborhood events and share ideas. Email m.g.lawty@gmail.com for Zoom log in.
URL:https://thorntoncreekalliance.info/event/lcna-lake-city-neighborhood-alliance-meeting/
CATEGORIES:Public Event
ATTACH;FMTTYPE=image/jpeg:https://thorntoncreekalliance.info/wp-content/uploads/2021/10/Generic_Calendar_Image_16-9.jpg
END:VEVENT
BEGIN:VEVENT
DTSTART;TZID=America/Los_Angeles:20220411T103000
DTEND;TZID=America/Los_Angeles:20220411T123000
DTSTAMP:20260425T161030
CREATED:20220401T202818Z
LAST-MODIFIED:20220401T202818Z
UID:10000138-1649673000-1649680200@thorntoncreekalliance.info
SUMMARY:Kramer Creek Work Party
DESCRIPTION:Meet Forest Steward NIcole at the SW corner of 28th Avenue NE and NE 113th St.
URL:https://thorntoncreekalliance.info/event/kramer-creek-work-party-14/
CATEGORIES:Public Event
ATTACH;FMTTYPE=image/jpeg:https://thorntoncreekalliance.info/wp-content/uploads/2021/10/Generic_Calendar_Image_16-9.jpg
END:VEVENT
BEGIN:VEVENT
DTSTART;TZID=America/Los_Angeles:20220410T090000
DTEND;TZID=America/Los_Angeles:20220410T120000
DTSTAMP:20260425T161030
CREATED:20220401T194532Z
LAST-MODIFIED:20220401T194532Z
UID:10000136-1649581200-1649592000@thorntoncreekalliance.info
SUMMARY:Twin Ponds Park--Weekly Sunday Work Party!
DESCRIPTION:Join Jim\, Gary and Yoshiko on Sunday mornings at Twin Ponds Park! We see different wildlife with the changing seasons and that inspires us to nurture the natural areas of Twin Ponds Park. We pull out invasives\, love OM\, and dream about the next big planting of native plants for the birds and beasts to enjoy. \nFor More information visit: https://shoreline.greencitypartnerships.org/event/269/
URL:https://thorntoncreekalliance.info/event/twin-ponds-park-weekly-sunday-work-party/
CATEGORIES:Public Event
ATTACH;FMTTYPE=image/jpeg:https://thorntoncreekalliance.info/wp-content/uploads/2021/10/Generic_Calendar_Image_16-9.jpg
END:VEVENT
BEGIN:VEVENT
DTSTART;TZID=America/Los_Angeles:20220410T080000
DTEND;TZID=America/Los_Angeles:20220410T100000
DTSTAMP:20260425T161030
CREATED:20220401T195003Z
LAST-MODIFIED:20220401T195003Z
UID:10000137-1649577600-1649584800@thorntoncreekalliance.info
SUMMARY:Friends of the Burke-Gilman Trail's monthly bird walk on the Trail
DESCRIPTION:Join us for our monthly Community Scientist bird walk with Master Birder\, Woody Wheeler. No experience needed just a good interest. Walk is a total of 2 miles at a slow pace. \nFor more information visit: https://seattle.greencitypartnerships.org/event/20368/
URL:https://thorntoncreekalliance.info/event/friends-of-the-burke-gilman-trails-monthly-bird-walk-on-the-trail-3/
CATEGORIES:Public Event
ATTACH;FMTTYPE=image/jpeg:https://thorntoncreekalliance.info/wp-content/uploads/2021/10/Generic_Calendar_Image_16-9.jpg
END:VEVENT
BEGIN:VEVENT
DTSTART;TZID=America/Los_Angeles:20220409T090000
DTEND;TZID=America/Los_Angeles:20220409T100000
DTSTAMP:20260425T161030
CREATED:20220401T194214Z
LAST-MODIFIED:20220401T194214Z
UID:10000135-1649494800-1649498400@thorntoncreekalliance.info
SUMMARY:TCA Community Science E.coli Sampling
DESCRIPTION:Collect water samples for E. coli analysis from 12 to 13 sites in the Thornton Creek drainage. Every other Saturday morning three teams collect water from their respective sampling sites in Thornton Creek and Little Brook Creek. The samples are processed\, incubated and counted by one of the team members. Results are entered on an electronic data sheet\, submitted and finally reported. Results also go to Seattle Public Utilities (SPU). For more info or to join\, contact Gary Olson at: 206-523-4384.
URL:https://thorntoncreekalliance.info/event/tca-community-science-e-coli-sampling-9/
CATEGORIES:Public Event
ATTACH;FMTTYPE=image/jpeg:https://thorntoncreekalliance.info/wp-content/uploads/2021/10/Generic_Calendar_Image_16-9.jpg
END:VEVENT
BEGIN:VEVENT
DTSTART;TZID=America/Los_Angeles:20220406T150000
DTEND;TZID=America/Los_Angeles:20220406T170000
DTSTAMP:20260425T161030
CREATED:20220401T193925Z
LAST-MODIFIED:20220401T193925Z
UID:10000134-1649257200-1649264400@thorntoncreekalliance.info
SUMMARY:Seattle Urban Forestry Commission
DESCRIPTION:The Urban Forestry Commission advises Seattle’s Mayor and City Council concerning the establishment of policy and regulations governing the protection\, management\, and conservation of trees and vegetation in the City of Seattle. Regular UFC meetings are held on the first and second Wednesday of the month\, from 3 PM to 5 PM. \nFor more information visit: https://www.seattle.gov/urbanforestrycommission/meetingscheduler
URL:https://thorntoncreekalliance.info/event/seattle-urban-forestry-commission-3/
CATEGORIES:Public Event
ATTACH;FMTTYPE=image/jpeg:https://thorntoncreekalliance.info/wp-content/uploads/2021/10/Generic_Calendar_Image_16-9.jpg
END:VEVENT
BEGIN:VEVENT
DTSTART;TZID=America/Los_Angeles:20220404T103000
DTEND;TZID=America/Los_Angeles:20220404T123000
DTSTAMP:20260425T161030
CREATED:20220401T193548Z
LAST-MODIFIED:20220401T193548Z
UID:10000133-1649068200-1649075400@thorntoncreekalliance.info
SUMMARY:Kramer Creek Work Party
DESCRIPTION:Meet Forest Steward Nicole at the SW corner of 28th Avenue NE and NE 113th St.
URL:https://thorntoncreekalliance.info/event/kramer-creek-work-party-13/
CATEGORIES:Public Event
ATTACH;FMTTYPE=image/jpeg:https://thorntoncreekalliance.info/wp-content/uploads/2021/10/Generic_Calendar_Image_16-9.jpg
END:VEVENT
BEGIN:VEVENT
DTSTART;TZID=America/Los_Angeles:20220403T090000
DTEND;TZID=America/Los_Angeles:20220403T120000
DTSTAMP:20260425T161030
CREATED:20220401T183351Z
LAST-MODIFIED:20220401T183351Z
UID:10000131-1648976400-1648987200@thorntoncreekalliance.info
SUMMARY:Twin Ponds Park--Weekly Sunday Work Party! Twin Ponds Park
DESCRIPTION:Join Jim\, Gary and Yoshiko on Sunday mornings at Twin Ponds Park! We see different wildlife with the changing seasons and that inspires us to nurture the natural areas of Twin Ponds Park. We pull out invasives\, love OM\, and dream about the next big planting of native plants for the birds and beasts to enjoy. \nFor more information visit: https://shoreline.greencitypartnerships.org/event/268/
URL:https://thorntoncreekalliance.info/event/twin-ponds-park-weekly-sunday-work-party-twin-ponds-park/
CATEGORIES:Public Event
ATTACH;FMTTYPE=image/jpeg:https://thorntoncreekalliance.info/wp-content/uploads/2021/10/Generic_Calendar_Image_16-9.jpg
END:VEVENT
BEGIN:VEVENT
DTSTART;TZID=America/Los_Angeles:20220401T090000
DTEND;TZID=America/Los_Angeles:20220401T123000
DTSTAMP:20260425T161030
CREATED:20220331T202141Z
LAST-MODIFIED:20220331T202141Z
UID:10000132-1648803600-1648816200@thorntoncreekalliance.info
SUMMARY:Burke-Gilman Trail - Blackberry Removal
DESCRIPTION:It may be April Fool’s day\, but we aren’t fooling around the Blackberries will be gone if we can help it!!! Open to the public. All ages OK. Dress for the weather predicted!\, sturdy shoes or boots. BRING – Gloves\, a snack and drink for our mid-AM Coffee break. We’ll have tools and some gloves if you don’t have any. We’ll meet on the B-G Trail just east of the intersection of Pullman Ave NE and NE 60th St. \nFor more information visit: https://seattle.greencitypartnerships.org/event/21097/
URL:https://thorntoncreekalliance.info/event/burke-gilman-trail-blackberry-removal/
CATEGORIES:Public Event
ATTACH;FMTTYPE=image/jpeg:https://thorntoncreekalliance.info/wp-content/uploads/2021/10/Generic_Calendar_Image_16-9.jpg
END:VEVENT
BEGIN:VEVENT
DTSTART;TZID=America/Los_Angeles:20220329T093000
DTEND;TZID=America/Los_Angeles:20220329T130000
DTSTAMP:20260425T161030
CREATED:20220305T012509Z
LAST-MODIFIED:20220305T012509Z
UID:10000130-1648546200-1648558800@thorntoncreekalliance.info
SUMMARY:Northacres Park Work Party
DESCRIPTION:  \nPlease join us as we improve wildlife habitat and trail corridors for park users. The focus is on slow and careful work by folks who want to learn about and support the urban forest. No experience is necessary and all are welcome and encouraged to join regardless of age or ability! Specific work will involve pruning and weeding as we nurture biodiversity at the park.
URL:https://thorntoncreekalliance.info/event/northacres-park-work-party-9/
CATEGORIES:Public Event
ATTACH;FMTTYPE=image/jpeg:https://thorntoncreekalliance.info/wp-content/uploads/2021/10/Generic_Calendar_Image_16-9.jpg
END:VEVENT
BEGIN:VEVENT
DTSTART;TZID=America/Los_Angeles:20220328T103000
DTEND;TZID=America/Los_Angeles:20220328T123000
DTSTAMP:20260425T161030
CREATED:20220305T011259Z
LAST-MODIFIED:20220305T011259Z
UID:10000129-1648463400-1648470600@thorntoncreekalliance.info
SUMMARY:Kramer Creek Work Party
DESCRIPTION:  \nMeet Forest Steward Nicole at the SW corner of 28th Avenue NE and NE 113th St. Call Dan Keefe at 970-217-5461
URL:https://thorntoncreekalliance.info/event/kramer-creek-work-party-12/
CATEGORIES:Public Event
ATTACH;FMTTYPE=image/jpeg:https://thorntoncreekalliance.info/wp-content/uploads/2021/10/Generic_Calendar_Image_16-9.jpg
END:VEVENT
BEGIN:VEVENT
DTSTART;TZID=America/Los_Angeles:20220327T090000
DTEND;TZID=America/Los_Angeles:20220327T120000
DTSTAMP:20260425T161030
CREATED:20220305T011133Z
LAST-MODIFIED:20220305T011133Z
UID:10000128-1648371600-1648382400@thorntoncreekalliance.info
SUMMARY:Twin Ponds Park Work Party
DESCRIPTION:  \nJoin Jim\, Gary and Yoshiko on Sunday mornings at Twin Ponds Park! We see different wildlife with the changing seasons and that inspires us to nurture the natural areas of Twin Ponds Park. We pull out invasives\, love OM\, and dream about the next big planting of native plants for the birds and beasts to enjoy. There is a wood chip pile south of the main trail entrance on Meridian. We are just inside the park from there\, about a dozen yards or so.
URL:https://thorntoncreekalliance.info/event/twin-ponds-park-work-party-7/
CATEGORIES:Public Event
ATTACH;FMTTYPE=image/jpeg:https://thorntoncreekalliance.info/wp-content/uploads/2021/10/Generic_Calendar_Image_16-9.jpg
END:VEVENT
BEGIN:VEVENT
DTSTART;TZID=America/Los_Angeles:20220326T090000
DTEND;TZID=America/Los_Angeles:20220326T100000
DTSTAMP:20260425T161030
CREATED:20220305T010830Z
LAST-MODIFIED:20220305T010830Z
UID:10000127-1648285200-1648288800@thorntoncreekalliance.info
SUMMARY:TCA Community Science E.coli Sampling
DESCRIPTION:  \nCollect water samples for E. coli analysis from 12 to 13 sites in the Thornton Creek drainage. Every other Saturday morning three teams collect water from their respective sampling sites in Thornton Creek and Little Brook Creek. The samples are processed\, incubated and counted by one of the team members. Results are entered on an electronic data sheet\, submitted and finally reported. Results also go to Seattle Public Utilities (SPU). For more info or to join\, contact Gary Olson at: 206-523-4384.
URL:https://thorntoncreekalliance.info/event/tca-community-science-e-coli-sampling-7/
CATEGORIES:Public Event
ATTACH;FMTTYPE=image/jpeg:https://thorntoncreekalliance.info/wp-content/uploads/2021/10/Generic_Calendar_Image_16-9.jpg
END:VEVENT
BEGIN:VEVENT
DTSTART;TZID=America/Los_Angeles:20220322T090000
DTEND;TZID=America/Los_Angeles:20220322T130000
DTSTAMP:20260425T161030
CREATED:20220305T010213Z
LAST-MODIFIED:20220305T010214Z
UID:10000125-1647939600-1647954000@thorntoncreekalliance.info
SUMMARY:Northacres Park Work Party
DESCRIPTION:  \nPlease join us as we improve wildlife habitat and trail corridors for park users. The focus is on slow and careful work by folks who want to learn about and support the urban forest. No experience is necessary and all are welcome and encouraged to join regardless of age or ability! Specific work will involve pruning and weeding as we nurture biodiversity at the park.
URL:https://thorntoncreekalliance.info/event/northacres-park-work-party-8/
CATEGORIES:Public Event
ATTACH;FMTTYPE=image/jpeg:https://thorntoncreekalliance.info/wp-content/uploads/2021/10/Generic_Calendar_Image_16-9.jpg
END:VEVENT
BEGIN:VEVENT
DTSTART;TZID=America/Los_Angeles:20220321T103000
DTEND;TZID=America/Los_Angeles:20220321T123000
DTSTAMP:20260425T161030
CREATED:20220305T005019Z
LAST-MODIFIED:20220305T005019Z
UID:10000124-1647858600-1647865800@thorntoncreekalliance.info
SUMMARY:Kramer Creek Work Party
DESCRIPTION:  \nMeet Forest Steward Nicole at the SW corner of 28th Avenue NE and NE 113th St. Call Dan Keefe at 970-217-5461
URL:https://thorntoncreekalliance.info/event/kramer-creek-work-party-11/
CATEGORIES:Public Event
ATTACH;FMTTYPE=image/jpeg:https://thorntoncreekalliance.info/wp-content/uploads/2021/10/Generic_Calendar_Image_16-9.jpg
END:VEVENT
BEGIN:VEVENT
DTSTART;TZID=America/Los_Angeles:20220320T090000
DTEND;TZID=America/Los_Angeles:20220320T120000
DTSTAMP:20260425T161030
CREATED:20220305T004850Z
LAST-MODIFIED:20220305T004850Z
UID:10000123-1647766800-1647777600@thorntoncreekalliance.info
SUMMARY:Twin Ponds Park Work Party
DESCRIPTION:  \nJoin Jim\, Gary and Yoshiko on Sunday mornings at Twin Ponds Park! We see different wildlife with the changing seasons and that inspires us to nurture the natural areas of Twin Ponds Park. We pull out invasives\, love OM\, and dream about the next big planting of native plants for the birds and beasts to enjoy. There is a wood chip pile south of the main trail entrance on Meridian. We are just inside the park from there\, about a dozen yards or so.
URL:https://thorntoncreekalliance.info/event/twin-ponds-park-work-party-6/
CATEGORIES:Public Event
ATTACH;FMTTYPE=image/jpeg:https://thorntoncreekalliance.info/wp-content/uploads/2021/10/Generic_Calendar_Image_16-9.jpg
END:VEVENT
BEGIN:VEVENT
DTSTART;TZID=America/Los_Angeles:20220319T100000
DTEND;TZID=America/Los_Angeles:20220319T140000
DTSTAMP:20260425T161030
CREATED:20220305T004551Z
LAST-MODIFIED:20220305T004551Z
UID:10000122-1647684000-1647698400@thorntoncreekalliance.info
SUMMARY:Jackson Park Trail Work Party
DESCRIPTION:  \nJoin us to restore natural areas along the trail next to Jackson Park Golf Course. You’ll discover sweet patches of forest and hear birdsong while you work! Meet at the white sculpture near the trail kiosk – (NE 135th and 11th NE) – we’ll load up and go to the work area from there. info@jacksonparktrail.org. Call or text Elly at 206-679-0935 if something comes up.
URL:https://thorntoncreekalliance.info/event/jackson-park-trail-work-party-3/
CATEGORIES:Public Event
ATTACH;FMTTYPE=image/jpeg:https://thorntoncreekalliance.info/wp-content/uploads/2021/10/Generic_Calendar_Image_16-9.jpg
END:VEVENT
BEGIN:VEVENT
DTSTART;TZID=America/Los_Angeles:20220315T093000
DTEND;TZID=America/Los_Angeles:20220315T130000
DTSTAMP:20260425T161030
CREATED:20220305T001843Z
LAST-MODIFIED:20220305T001843Z
UID:10000029-1647336600-1647349200@thorntoncreekalliance.info
SUMMARY:Northacres Park Work Party
DESCRIPTION:  \nPlease join us as we improve wildlife habitat and trail corridors for park users. The focus is on slow and careful work by folks who want to learn about and support the urban forest. No experience is necessary and all are welcome and encouraged to join regardless of age or ability! Specific work will involve pruning and weeding as we nurture biodiversity at the park.
URL:https://thorntoncreekalliance.info/event/northacres-park-work-party-7/
CATEGORIES:Public Event
ATTACH;FMTTYPE=image/jpeg:https://thorntoncreekalliance.info/wp-content/uploads/2021/10/Generic_Calendar_Image_16-9.jpg
END:VEVENT
BEGIN:VEVENT
DTSTART;TZID=America/Los_Angeles:20220314T103000
DTEND;TZID=America/Los_Angeles:20220314T123000
DTSTAMP:20260425T161030
CREATED:20220305T001344Z
LAST-MODIFIED:20220305T001344Z
UID:10000027-1647253800-1647261000@thorntoncreekalliance.info
SUMMARY:Kramer Creek Work Party
DESCRIPTION:  \nMeet Forest Steward Nicole at the SW corner of 28th Avenue NE and NE 113th St. Call Dan Keefe at 970-217-5461
URL:https://thorntoncreekalliance.info/event/kramer-creek-work-party-10/
CATEGORIES:Public Event
ATTACH;FMTTYPE=image/jpeg:https://thorntoncreekalliance.info/wp-content/uploads/2021/10/Generic_Calendar_Image_16-9.jpg
END:VEVENT
END:VCALENDAR