BEGIN:VCALENDAR
VERSION:2.0
PRODID:-//Thornton Creek Alliance - ECPv6.15.20//NONSGML v1.0//EN
CALSCALE:GREGORIAN
METHOD:PUBLISH
X-ORIGINAL-URL:https://thorntoncreekalliance.info
X-WR-CALDESC:Events for Thornton Creek Alliance
REFRESH-INTERVAL;VALUE=DURATION:PT1H
X-Robots-Tag:noindex
X-PUBLISHED-TTL:PT1H
BEGIN:VTIMEZONE
TZID:America/Los_Angeles
BEGIN:DAYLIGHT
TZOFFSETFROM:-0800
TZOFFSETTO:-0700
TZNAME:PDT
DTSTART:20210314T100000
END:DAYLIGHT
BEGIN:STANDARD
TZOFFSETFROM:-0700
TZOFFSETTO:-0800
TZNAME:PST
DTSTART:20211107T090000
END:STANDARD
BEGIN:DAYLIGHT
TZOFFSETFROM:-0800
TZOFFSETTO:-0700
TZNAME:PDT
DTSTART:20220313T100000
END:DAYLIGHT
BEGIN:STANDARD
TZOFFSETFROM:-0700
TZOFFSETTO:-0800
TZNAME:PST
DTSTART:20221106T090000
END:STANDARD
BEGIN:DAYLIGHT
TZOFFSETFROM:-0800
TZOFFSETTO:-0700
TZNAME:PDT
DTSTART:20230312T100000
END:DAYLIGHT
BEGIN:STANDARD
TZOFFSETFROM:-0700
TZOFFSETTO:-0800
TZNAME:PST
DTSTART:20231105T090000
END:STANDARD
BEGIN:DAYLIGHT
TZOFFSETFROM:-0800
TZOFFSETTO:-0700
TZNAME:PDT
DTSTART:20240310T100000
END:DAYLIGHT
BEGIN:STANDARD
TZOFFSETFROM:-0700
TZOFFSETTO:-0800
TZNAME:PST
DTSTART:20241103T090000
END:STANDARD
END:VTIMEZONE
BEGIN:VEVENT
DTSTART;TZID=America/Los_Angeles:20230124T190000
DTEND;TZID=America/Los_Angeles:20230124T210000
DTSTAMP:20260425T143101
CREATED:20221202T004146Z
LAST-MODIFIED:20221202T004150Z
UID:10000164-1674586800-1674594000@thorntoncreekalliance.info
SUMMARY:TCA Board Meeting
DESCRIPTION:  \nThe TCA Board is comprised of 6 officers and 10 members at large. The current officers are President Dan Keefe\, First Vice President Roseann Barnhill\, VP Membership Ruth Williams\, VP Programs Judy Olson\, Secretary Jeff Laufle\, and Treasurer Gary Olson. The members at large are: Annie Fanning\, Art Rudnicki\, Dass Adams\, Jessica Yellin\, John Lombard\, Jonathon Frodge\, Mark Mendez\, Muriel Lawty\, Richard Newman and Tom Cunningham. The Board meets on the fourth Tuesday of every month.
URL:https://thorntoncreekalliance.info/event/tca-board-meeting-5/
CATEGORIES:Board Meeting
ATTACH;FMTTYPE=image/jpeg:https://thorntoncreekalliance.info/wp-content/uploads/2021/10/Generic_Calendar_Image_16-9.jpg
END:VEVENT
BEGIN:VEVENT
DTSTART;TZID=America/Los_Angeles:20220426T190000
DTEND;TZID=America/Los_Angeles:20220426T210000
DTSTAMP:20260425T143101
CREATED:20220405T191255Z
LAST-MODIFIED:20220405T192042Z
UID:10000153-1650999600-1651006800@thorntoncreekalliance.info
SUMMARY:TCA Board Meeting
DESCRIPTION:  \nThe TCA Board is comprised of 5 officers and 9 members at large. The current officers are President Dan Keefe\, First Vice President Jeff Laufle\, VP Membership Ruth Williams\, VP Programs Judy Olson\, Secretary Richard Newman\, and Treasurer Gary Olson. The members at large are: Annie Fanning\, Dass Adams\, Jessica Yellin\, John Lombard\, Jonathon Frodge\, Roseann Barnhill and Tom Cunningham. The Board usually meets on the fourth Tuesday of every month.
URL:https://thorntoncreekalliance.info/event/tca-board-meeting-4/
CATEGORIES:Board Meeting
ATTACH;FMTTYPE=image/jpeg:https://thorntoncreekalliance.info/wp-content/uploads/2021/10/Generic_Calendar_Image_16-9.jpg
END:VEVENT
BEGIN:VEVENT
DTSTART;TZID=America/Los_Angeles:20220222T190000
DTEND;TZID=America/Los_Angeles:20220222T210000
DTSTAMP:20260425T143101
CREATED:20220205T004148Z
LAST-MODIFIED:20220205T004148Z
UID:10000112-1645556400-1645563600@thorntoncreekalliance.info
SUMMARY:TCA Board Meeting
DESCRIPTION:  \nThe TCA Board is comprised of 5 officers and 9 members at large. The current officers are President Dan Keefe\, First Vice President Jeff Laufle\, VP Membership Ruth Williams\, VP Programs Judy Olson\, Secretary Richard Newman\, and Treasurer Gary Olson. The members at large are: Annie Fanning\, Dass Adams\, Jessica Yellin\, John Lombard\, Jonathon Frodge\, Roseann Barnhill and Tom Cunningham. The Board usually meets on the fourth Tuesday of every month.
URL:https://thorntoncreekalliance.info/event/tca-board-meeting-2/
CATEGORIES:Board Meeting
ATTACH;FMTTYPE=image/jpeg:https://thorntoncreekalliance.info/wp-content/uploads/2021/10/Generic_Calendar_Image_16-9.jpg
END:VEVENT
BEGIN:VEVENT
DTSTART;TZID=America/Los_Angeles:20220125T190000
DTEND;TZID=America/Los_Angeles:20220125T210000
DTSTAMP:20260425T143101
CREATED:20220106T002514Z
LAST-MODIFIED:20220106T002628Z
UID:10000046-1643137200-1643144400@thorntoncreekalliance.info
SUMMARY:TCA Board Meeting
DESCRIPTION:  \nThe TCA Board is comprised of 5 officers and 9 members at large. The current officers are President Dan Keefe\, First Vice President Jeff Laufle\, VP Membership Ruth Williams\, VP Programs Judy Olson\, Secretary Richard Newman\, and Treasurer Gary Olson. The members at large are: Annie Fanning\, Dass Adams\, Garet Munger\, Jessica Yellin\, John Lombard\, Jonathon Frodge\, Roseann Barnhill and Tom Cunningham. The Board meets on the fourth Tuesday of every month.
URL:https://thorntoncreekalliance.info/event/tca-board-meeting/
CATEGORIES:Board Meeting
ATTACH;FMTTYPE=image/jpeg:https://thorntoncreekalliance.info/wp-content/uploads/2021/10/Generic_Calendar_Image_16-9.jpg
END:VEVENT
END:VCALENDAR